BEGIN:VCALENDAR
VERSION:2.0
PRODID:-//plazasatelite//EN
CALSCALE:GREGORIAN
BEGIN:VEVENT
UID:evento-10731@plazasatelite
DTSTAMP:20260419T125351Z
DTSTART:20260329T110000
DTEND:20260405T210000
SUMMARY:Conejos dorados
DESCRIPTION:Ven y tómate una foto esta pascua con y tus niños y disfruta del Centro Comercial con las actividades que trae para ti. &nbsp;
LOCATION:Pasillo Central
END:VEVENT
END:VCALENDAR
