BEGIN:VCALENDAR
VERSION:2.0
PRODID:-//plazasatelite//EN
CALSCALE:GREGORIAN
BEGIN:VEVENT
UID:evento-9090@plazasatelite
DTSTAMP:20260419T130019Z
DTSTART:20251024T190000
DTEND:20251024T190000
SUMMARY:Pasarela de Catrinas
DESCRIPTION:Disfruta de una pasarela única donde las mejores marcas del centro comercial se visten de tradición y estilo. Un encuentro que combina moda, cultura y el emblemático espíritu del Día de Muertos
LOCATION:Anfiteatro
END:VEVENT
END:VCALENDAR
